BEGIN:VCALENDAR
VERSION:2.0
PRODID:-//Emancipator - ECPv6.15.20//NONSGML v1.0//EN
CALSCALE:GREGORIAN
METHOD:PUBLISH
X-WR-CALNAME:Emancipator
X-ORIGINAL-URL:https://emancipator.nl
X-WR-CALDESC:Evenementen voor Emancipator
REFRESH-INTERVAL;VALUE=DURATION:PT1H
X-Robots-Tag:noindex
X-PUBLISHED-TTL:PT1H
BEGIN:VTIMEZONE
TZID:Europe/Amsterdam
BEGIN:DAYLIGHT
TZOFFSETFROM:+0100
TZOFFSETTO:+0200
TZNAME:CEST
DTSTART:20250330T010000
END:DAYLIGHT
BEGIN:STANDARD
TZOFFSETFROM:+0200
TZOFFSETTO:+0100
TZNAME:CET
DTSTART:20251026T010000
END:STANDARD
BEGIN:DAYLIGHT
TZOFFSETFROM:+0100
TZOFFSETTO:+0200
TZNAME:CEST
DTSTART:20260329T010000
END:DAYLIGHT
BEGIN:STANDARD
TZOFFSETFROM:+0200
TZOFFSETTO:+0100
TZNAME:CET
DTSTART:20261025T010000
END:STANDARD
BEGIN:DAYLIGHT
TZOFFSETFROM:+0100
TZOFFSETTO:+0200
TZNAME:CEST
DTSTART:20270328T010000
END:DAYLIGHT
BEGIN:STANDARD
TZOFFSETFROM:+0200
TZOFFSETTO:+0100
TZNAME:CET
DTSTART:20271031T010000
END:STANDARD
END:VTIMEZONE
BEGIN:VEVENT
DTSTART;TZID=Europe/Amsterdam:20260304T133000
DTEND;TZID=Europe/Amsterdam:20260304T153000
DTSTAMP:20260420T125821
CREATED:20260113T112901Z
LAST-MODIFIED:20260113T113037Z
UID:3552-1772631000-1772638200@emancipator.nl
SUMMARY:Webinar: Fabriek 69 X Emancipator | Mannen en seksueel welzijn: Meer gelijkwaardigheid\, meer genot
DESCRIPTION:
URL:https://emancipator.nl/event/fabriek-69-x-emancipator-mannen-en-seksueel-welzijn-meer-gelijkwaardigheid-meer-genot/
LOCATION:online
ATTACH;FMTTYPE=image/png:https://emancipator.nl/wp-content/uploads/2026/01/Mannen-en-seksueel-welzijn.png
END:VEVENT
BEGIN:VEVENT
DTSTART;TZID=Europe/Amsterdam:20260305T193000
DTEND;TZID=Europe/Amsterdam:20260305T213000
DTSTAMP:20260420T125821
CREATED:20260129T111729Z
LAST-MODIFIED:20260216T095856Z
UID:3584-1772739000-1772746200@emancipator.nl
SUMMARY:Who Cares? Vaderschap voor gendergelijkheid
DESCRIPTION:Bijna dertig procent van de vrouwen in Nederland is niet economisch zelfstandig. Om dat te veranderen moeten we betrokken vaderschap stimuleren. Want als we willen dat moeders meer gaan werken\, moeten vaders meer gaan zorgen. Dat is ook nog eens goed voor hun eigen welzijn én dat van hun kinderen. Tijdens deze bijeenkomst verzorgt prof. dr. Belle Derks een keynote over de invloed van maatschappelijke gendernormen op besluitvorming\, met name op het gebied van werk en familie. Ook presenteren Mirte Wibaut en Bregje Feuth hun boek: Who cares? Waarom mannen tóch nog minder zorgen en wat er (vooral voor hen) te winnen valt. Samen onderzoeken we hoe kleine verschuivingen in zorg grote sociale en economische impact kunnen hebben.
URL:https://emancipator.nl/event/event-veerkracht-van-vrouwen-een-nieuw-perspectief-op-gelijkwaardigheid-en-economische-impact/
LOCATION:Pakhuis de Zwijger\, Amsterdam
ATTACH;FMTTYPE=image/jpeg:https://emancipator.nl/wp-content/uploads/2026/01/kelly-sikkema-hS_eGxLjozs-unsplash-scaled-1.jpg
END:VEVENT
BEGIN:VEVENT
DTSTART;TZID=Europe/Amsterdam:20260308T120000
DTEND;TZID=Europe/Amsterdam:20260308T170000
DTSTAMP:20260420T125821
CREATED:20260127T142546Z
LAST-MODIFIED:20260302T100132Z
UID:3576-1772971200-1772989200@emancipator.nl
SUMMARY:Feminist March - Amsterdam
DESCRIPTION:Warming-up voor de Feminist March 2026\nOp 8 maart is het weer tijd voor de Feminist March in Amsterdam. Emancipator loopt mee. Loop jij ook mee? \nVoorafgaand aan de mars starten we samen met een ochtend vol ontmoeting\, verdieping en actie. Tijdens We should all be feminists warmen we samen op met ontbijt\, gesprekken en het maken van protestborden. \nInternationale Vrouwendag is geen symbolisch moment. Het is een collectieve herinnering dat gendergelijkheid nog altijd geen vanzelfsprekendheid is. En dat verandering alleen mogelijk is als we het systeem veranderen dat ongelijkheid in stand houdt. \nDaarom brengen we mannenemancipatie nadrukkelijk mee naar de Feminist March. \nTraditionele mannelijkheidsnormen beperken niet alleen vrouwen en genderdiverse mensen\, maar ook mannen zelf. Strikte ideeën over wat een man hoort te zijn werken door in arbeid en zorg\, vaderschap\, relaties\, seksualiteit\, geweld en mentale gezondheid. Zolang mannelijkheid verbonden blijft aan dominantie\, emotionele beperking en controle\, blijft genderongelijkheid bestaan. \nFeminisme heeft mannen nodig.En mannen hebben feminisme nodig. \nMannenemancipatie maakt mannen deel van de oplossing. \nTijdens het programma duiken we ook in de expositie SK8GIRLS: Skateboarding as Act of Resistance. Deze tentoonstelling laat vrouwelijke en queer skaters van over de hele wereld zien die ruimte opeisen in een wereld die vaak door mannen wordt gedomineerd. Hun boards zijn meer dan sportmateriaal: ze zijn een vorm van verzet\, identiteit en solidariteit. Fotograaf Coco Olakunle\, van wie werk in de expositie te zien is\, verzorgt een korte rondleiding. \nWe zouden allemaal feministen moeten zijn\, omdat we allemaal baat hebben bij gendergelijkheid. En juist nu hebben we mannen nodig die zich uitspreken tegen seksisme en beperkende mannelijkheidsnormen. \nNeem een man mee. Neem een vriend\, collega\, broer of vader mee.Niet als toeschouwer\, maar als bondgenoot. \nStart Internationale Vrouwendag samen met ons en loop daarna mee met de Feminist March.\nWil je meehelpen als vrijwilliger? meld je dan hier aan voor de signal groep! \nDit evenement is gratis. Meld je aan via de ticketlink. \nVoor dit programma werken we samen met Oxfam Novib. \n \n\n\n\nWanneer: zondag 8 maart\nWaar: Melkweg\, Amsterdam\nTijd: Start Melkweg om 10:30
URL:https://emancipator.nl/event/feminist-march-amsterdam/
ATTACH;FMTTYPE=image/avif:https://emancipator.nl/wp-content/uploads/2026/01/Feminist-March-2026-save-the-date-poster.avif
END:VEVENT
BEGIN:VEVENT
DTSTART;TZID=Europe/Amsterdam:20260326T183000
DTEND;TZID=Europe/Amsterdam:20260326T213000
DTSTAMP:20260420T125821
CREATED:20260312T084435Z
LAST-MODIFIED:20260319T124311Z
UID:3673-1774549800-1774560600@emancipator.nl
SUMMARY:Thema avond - Docu: inside the manosphere
DESCRIPTION:De manosphere is een groeiend online netwerk van influencers en communities waarin ideeën over mannelijkheid\, relaties en macht worden gedeeld die vaak sterk anti-feministisch zijn. Tegelijkertijd spreken deze platforms gevoelens van onzekerheid\, frustratie en identiteitsvragen bij jongens en mannen aan. \nTijdens deze thema-avond gaan we samen in gesprek over de documentaire Louis Theroux: Inside the Manosphere en de thema’s die daarin naar voren komen. Vanuit het perspectief van Emancipator staan we stil bij hoe online mannelijkheidsnormen ontstaan\, waarom ze zoveel aantrekkingskracht hebben\, en wat dit betekent voor mannenemancipatie en gendergelijkheid. \nHet wordt een avond om samen te reflecteren\, ervaringen te delen en met elkaar in gesprek te gaan over de onderwerpen die de documentaire aankaart. In een open en toegankelijke setting creëren we ruimte voor ontmoeting\, uitwisseling en nieuwe perspectieven. \nJe kan je hier aanmelden.
URL:https://emancipator.nl/event/thema-avond-docu-inside-the-manosphere/
LOCATION:Emancipator\, Zeeburgerdijk 139-1\, Amsterdam
ATTACH;FMTTYPE=image/jpeg:https://emancipator.nl/wp-content/uploads/2026/03/AAAABXORq2GBb8Hlyy42f0Oenym4KGmwEQ-LizgQVFybTuL03lgFQZSjjI2kUZXZHhHyULYDhauDmF-ZYdrRREeGRz7aFpDSx-dwIJ2B.jpg
END:VEVENT
BEGIN:VEVENT
DTSTART;TZID=Europe/Amsterdam:20260327T110000
DTEND;TZID=Europe/Amsterdam:20260327T170000
DTSTAMP:20260420T125821
CREATED:20250428T145418Z
LAST-MODIFIED:20260317T100556Z
UID:2819-1774609200-1774630800@emancipator.nl
SUMMARY:Zit vol - Training voor peer educators
DESCRIPTION:Ook met jongeren in gesprek over gender? Word peer educator!\nBen jij enthousiast om jongeren te inspireren en in gesprek te gaan over gender en mannelijkheid? Dan is dit jouw kans om impact te maken! Word peer educator en ga samen met Emancipator de klas in om het te hebben over mannenemancipatie. In onze interactieve sessies bespreken we gender\, mannelijkheid en stimuleren we de brede talentontwikkeling van jongens. \nWat doet een peer educator?\nAls peer educator ben jij een rolmodel: iemand waarin jongeren zich herkennen en die openstaat voor hun verhalen en ervaringen. Tijdens de workshops deel je je eigen inzichten en werk je samen met de trainer om jongeren aan het denken te zetten. De workshops bestaan uit interactieve oefeningen en gespreksvormen die deelnemers uitnodigen om te reflecteren op gender\, mannelijkheid en hun eigen ervaringen daarmee. Vaak openen we gesprekken die deelnemers nog niet eerder hebben gevoerd en daarmee verruimen we hun blik op zichzelf en de wereld om hen heen. \nWat leer je tijdens deze training?\nIn een Emancipator workshop openen we gesprekken. De werkvormen die we in workshops doen\, dragen bij aan dat gesprek opstarten\, maar de kwetsbare\, eerlijke en persoonlijke verhalen van de trainer en peer educator maken hier de meeste impact. Tijdens deze training zul je zelf de werkvormen ervaren en leer je hoe je jouw verhaal kan inzetten om een open gesprek te voeren met de deelnemers. Ook zullen we inzoomen op weerstand en zelfzorg na en tijdens een workshop. \nIets voor jou?\nMeld je dan aan voor onze jaarlijkse peertraining op 27 maart! Na je aanmelding plannen we een kennismakingsgesprek waarin wij meer vertellen over de workshops en Emancipator\, en jij iets meer over jezelf kunt delen. Daarna ben je klaar om deel te nemen aan de training.\n\nWel de training bijwonen\, maar wil je niet peer worden?\nIedereen die deze training wil bijwonen\, is welkom. Als je geen peer educator wilt worden\, maar wel graag leert hoe je in gesprek gaat over thema’s zoals mannelijkheid\, straatintimidatie\, genderongelijkheid\, mannenemancipatie of (seksueel) geweld\, dan kun je de training bijwonen onder de volgende voorwaarde: na de training organiseer je een pizza-avond of lunch met minimaal 5 deelnemers. Dit mogen vrienden zijn\, collega’s\, familie… Wie jij wilt! Tijdens deze avond kies jij een van de werkvormen die je geleerd hebt om met de deelnemers uit te voeren – zo wordt de kennis en ervaring doorgezet en heb je meer mensen bewust gemaakt van mannenemancipatie en de noodzaak daarvan. Je krijgt hiervoor van ons een budget van €50. \nPraktische informatie:\nVrijdag 27 maart 2026\nLocatie: Zeeburgerdijk 139-1\, Amsterdam\nStarttijd: 11:00 uur\nEindtijd: ongeveer 17:00 uur\nLunch: neem je eigen lunch mee; wij zorgen voor snacks en drankjes. \nTaal: Nederlands \nDeze training zit op dit moment helaas vol! Houd onze nieuwsbrief in de gaten voor nieuwe data van deze training.
URL:https://emancipator.nl/event/training-voor-peer-educators/
LOCATION:Emancipator\, Zeeburgerdijk 139-1\, Amsterdam
ATTACH;FMTTYPE=image/png:https://emancipator.nl/wp-content/uploads/2025/04/Scherm­afbeelding-2026-02-04-om-09.47.27.png
END:VEVENT
BEGIN:VEVENT
DTSTART;TZID=Europe/Amsterdam:20260330T080000
DTEND;TZID=Europe/Amsterdam:20260330T170000
DTSTAMP:20260420T125821
CREATED:20260310T123737Z
LAST-MODIFIED:20260319T104255Z
UID:3654-1774857600-1774890000@emancipator.nl
SUMMARY:Dolle Mina's Utrecht X Emancipator
DESCRIPTION:Op 30 maart organiseert Emancipator met de Dolle Mina’s Utrecht een avond over mannelijkheidsnormen en mannen betrekken bij gendergelijkheid. Strikte maatschappelijke mannelijkheidsnormen schaden mannen en dragen ook bij aan schadelijk gedrag van mannen tegen vrouwen en queer mensen. \nOp deze avond ontdekken we samen hoe deze normen werken en ons allemaal\, dus ook mannen\, beperken. Daarna kijken we naar hoe mannen bij kunnen dragen aan gendergelijkheid en het voorkomen van gendergerelateerd geweld. En hoe wij hen daar in kunnen stimuleren. \nEr is veel ruimte om in kleine groepjes onze persoonlijke ervaringen te bespreken. De avond is open voor iedereen\, maar dit is specifiek een fijne\, toegankelijke en open avond waar je je mannelijke vrienden\, broer\, partner et cetera die je altijd al mee had willen nemen goed mee naar toe kunt nemen. Dus neem mannen mee! \nKaartje kan je hier gratis reserveren. \nPraktische info: \nLocatie: De Kargadoor\, Utrecht\nTijd: 19:30
URL:https://emancipator.nl/event/dolle-minas-utrecht-x-emancipator/
ATTACH;FMTTYPE=image/png:https://emancipator.nl/wp-content/uploads/2026/03/Dolle-Mina-Feninisme-logo.png
END:VEVENT
END:VCALENDAR