BEGIN:VCALENDAR
VERSION:2.0
PRODID:-//Emancipator - ECPv6.15.20//NONSGML v1.0//EN
CALSCALE:GREGORIAN
METHOD:PUBLISH
X-WR-CALNAME:Emancipator
X-ORIGINAL-URL:https://emancipator.nl
X-WR-CALDESC:Evenementen voor Emancipator
REFRESH-INTERVAL;VALUE=DURATION:PT1H
X-Robots-Tag:noindex
X-PUBLISHED-TTL:PT1H
BEGIN:VTIMEZONE
TZID:Europe/Amsterdam
BEGIN:DAYLIGHT
TZOFFSETFROM:+0100
TZOFFSETTO:+0200
TZNAME:CEST
DTSTART:20230326T010000
END:DAYLIGHT
BEGIN:STANDARD
TZOFFSETFROM:+0200
TZOFFSETTO:+0100
TZNAME:CET
DTSTART:20231029T010000
END:STANDARD
BEGIN:DAYLIGHT
TZOFFSETFROM:+0100
TZOFFSETTO:+0200
TZNAME:CEST
DTSTART:20240331T010000
END:DAYLIGHT
BEGIN:STANDARD
TZOFFSETFROM:+0200
TZOFFSETTO:+0100
TZNAME:CET
DTSTART:20241027T010000
END:STANDARD
BEGIN:DAYLIGHT
TZOFFSETFROM:+0100
TZOFFSETTO:+0200
TZNAME:CEST
DTSTART:20250330T010000
END:DAYLIGHT
BEGIN:STANDARD
TZOFFSETFROM:+0200
TZOFFSETTO:+0100
TZNAME:CET
DTSTART:20251026T010000
END:STANDARD
END:VTIMEZONE
BEGIN:VEVENT
DTSTART;VALUE=DATE:20241112
DTEND;VALUE=DATE:20241128
DTSTAMP:20260420T225827
CREATED:20241111T114152Z
LAST-MODIFIED:20241111T114152Z
UID:982-1731369600-1732751999@emancipator.nl
SUMMARY:Expositie: Herinner je de vrouwen
DESCRIPTION:In de tentoonstelling Herinner je de vrouwen duiken we dieper in de Nederlandse vrouwenemancipatie van toen en nu. Binnen korte tijd zijn er enorme stappen gezet\, maar wie hebben daarvoor gezorgd? Van de Dolle Mina’s die taboes doorbraken en ijverden voor gelijke kansen\, tot het afschaffen van de vijf dagen bedenktijd voor abortus in 2023: de strijd voor gelijkwaardigheid blijft relevant. \nOm te begrijpen waar we naartoe gaan\, moeten we eerst leren waar we vandaan komen. Hoe heeft feminisme zich in Nederland ontwikkeld? Wie stonden er op de barricades\, en wie vochten er achter de schermen voor verandering? \nIn deze fototentoonstelling zie je portretten van vijftien feministen van oude en nieuwe generaties. Via indrukwekkende beelden van fotograaf Laura Cnossen en begeleidende audioverhalen van Marjolein Koster krijg je een intiem inzicht in de persoonlijke verhalen van degenen die hebben bijgedragen aan een meer gelijkwaardige samenleving. Het wordt hoog tijd dat Nederland ze leert kennen. Met ook een portret van onze Jens van Tricht en een verhaal over zijn bijdrage aan feminisme. \nMeer informatie hier.
URL:https://emancipator.nl/event/expositie-herinner-je-de-vrouwen/
LOCATION:Eindhoven
ATTACH;FMTTYPE=image/jpeg:https://emancipator.nl/wp-content/uploads/2024/11/herinner-je-de-vrouwen.jpg
END:VEVENT
BEGIN:VEVENT
DTSTART;TZID=Europe/Amsterdam:20241016T100000
DTEND;TZID=Europe/Amsterdam:20241016T190000
DTSTAMP:20260420T225827
CREATED:20241016T141440Z
LAST-MODIFIED:20241016T141440Z
UID:653-1729072800-1729105200@emancipator.nl
SUMMARY:Emancipatorweekend 2024
DESCRIPTION:
URL:https://emancipator.nl/event/emancipatorweekend-2024/
END:VEVENT
END:VCALENDAR